BEGIN:VCALENDAR
VERSION:2.0
PRODID:-//ChamberMaster//Event Calendar 2.0//EN
METHOD:PUBLISH
X-PUBLISHED-TTL:P3D
REFRESH-INTERVAL:P3D
CALSCALE:GREGORIAN
BEGIN:VEVENT
DTSTART:20260422T190000Z
DTEND:20260422T213000Z
X-MICROSOFT-CDO-ALLDAYEVENT:FALSE
SUMMARY:2026 Chamber Member Appreciation Social
DESCRIPTION:*** Due to a recently scheduled event at the Beacon (Oliver Anthony Music) with the doors opening at 6 pm\, we are opening our private event earlier at 3:00 PM - 5:30 PM and then Good Ship will open back up at 5:30 PM where we will share the space with concert goers - going to be fun.  For those of you who cannot get there early\, the event committee\, staff\, and board of directors will still be there until 7 pm welcoming you\, providing tasting tickets\, and eagerly awaiting YOUR arrival - this event is all about YOU.\n\n"Tap into the Chamber"\n\nA Special Gathering for All Members and Special Guests\n\n"This year is packed with member benefits\, and we want all members to know about them. That's why we are holding this free social\, Tap into the Chamber. Please register today!" shared Lee Bujakowski\, Membership Chairperson and Chamber Director.\nTwo free tickets per member business. It is possible that this event will "sell out."  We recommend registering early!  We have arranged to have Good Ship closed to the public so we can enjoy this time together.  \n\n\nIf you have questions\, contact the office 804-541-2461.
X-ALT-DESC;FMTTYPE=text/html:<span style="font-size: 26px\;"><b><span style="color:#0000CD\;"><span style="font-size:20px\;">*** Due to a recently scheduled event at the Beacon (Oliver Anthony Music) with the doors opening at 6 pm\, we are opening our private event earlier at 3:00 PM - 5:30 PM and then Good Ship will open back up at 5:30 PM where we will share the space with concert goers - going to be fun.&nbsp\; For those of you who cannot get there early\, the event committee\, staff\, and board of directors will still be there until 7 pm welcoming you\, providing tasting tickets\, and eagerly awaiting YOUR arrival - this event is all about YOU.</span></span><br />\n&quot\;Tap into the Chamber&quot\;</b></span><br />\n<span style="font-size:14px\;"><em>A Special Gathering for All Members and Special Guests<br />\n&quot\;This year is packed with member benefits\, and we want all members to know about them. That&#39\;s why we are holding this free social\, Tap into the Chamber. Please register today!&quot\; shared Lee Bujakowski\, Membership Chairperson and Chamber Director.</em></span>\n<p><strong>Two free tickets per member business.&nbsp\;It is possible that this event will &quot\;sell out.&quot\;&nbsp\; We recommend registering early!&nbsp\; We have arranged to have Good Ship closed to the public so we can enjoy this time together.&nbsp\;&nbsp\;</strong></p>\n<br />\nIf you have questions\, contact the office 804-541-2461.<br />\n&nbsp\;
LOCATION:Good Ship Brewing & Eatery 204 E. Cawson St. Hopewell\, VA 23860 Parking lots are adjacent to the library on Cawson St.\, across from the Beacon Theatre\, along Appomattox Library Streets\,and also a little further away in the lot in front of the Social Services Building which faces Hopewell Street.
UID:e.188.14600
SEQUENCE:3
DTSTAMP:20260420T015748Z
URL:https://www.hpgchamber.org/events/details/2026-chamber-member-appreciation-social-14600
END:VEVENT

END:VCALENDAR
